BEGIN:VCALENDAR
VERSION:2.0
PRODID:-//ConCamp - ECPv6.15.12.2//NONSGML v1.0//EN
CALSCALE:GREGORIAN
METHOD:PUBLISH
X-ORIGINAL-URL:https://concamp.com.br
X-WR-CALDESC:Eventos para ConCamp
REFRESH-INTERVAL;VALUE=DURATION:PT1H
X-Robots-Tag:noindex
X-PUBLISHED-TTL:PT1H
BEGIN:VTIMEZONE
TZID:America/Sao_Paulo
BEGIN:STANDARD
TZOFFSETFROM:-0300
TZOFFSETTO:-0300
TZNAME:-03
DTSTART:20240101T000000
END:STANDARD
END:VTIMEZONE
BEGIN:VEVENT
DTSTART;VALUE=DATE:20250809
DTEND;VALUE=DATE:20250810
DTSTAMP:20260424T064546
CREATED:20250106T153910Z
LAST-MODIFIED:20250106T160343Z
UID:13947-1754697600-1754783999@concamp.com.br
SUMMARY:Previsão de Sorteio
DESCRIPTION:
URL:https://concamp.com.br/agenda/previsao-de-sorteio-31/
CATEGORIES:Eventos
END:VEVENT
BEGIN:VEVENT
DTSTART;VALUE=DATE:20250830
DTEND;VALUE=DATE:20250831
DTSTAMP:20260424T064546
CREATED:20250106T160423Z
LAST-MODIFIED:20250106T160423Z
UID:13970-1756512000-1756598399@concamp.com.br
SUMMARY:Previsão de Sorteio
DESCRIPTION:
URL:https://concamp.com.br/agenda/previsao-de-sorteio-42/
CATEGORIES:Eventos
END:VEVENT
BEGIN:VEVENT
DTSTART;VALUE=DATE:20250910
DTEND;VALUE=DATE:20250911
DTSTAMP:20260424T064546
CREATED:20250106T154000Z
LAST-MODIFIED:20250106T160505Z
UID:13949-1757462400-1757548799@concamp.com.br
SUMMARY:Previsão de Sorteio
DESCRIPTION:
URL:https://concamp.com.br/agenda/previsao-de-sorteio-32/
CATEGORIES:Eventos
END:VEVENT
BEGIN:VEVENT
DTSTART;VALUE=DATE:20250927
DTEND;VALUE=DATE:20250928
DTSTAMP:20260424T064546
CREATED:20250106T160547Z
LAST-MODIFIED:20250106T160547Z
UID:13972-1758931200-1759017599@concamp.com.br
SUMMARY:Previsão de Sorteio
DESCRIPTION:
URL:https://concamp.com.br/agenda/previsao-de-sorteio-43/
END:VEVENT
BEGIN:VEVENT
DTSTART;VALUE=DATE:20251008
DTEND;VALUE=DATE:20251009
DTSTAMP:20260424T064546
CREATED:20250106T154107Z
LAST-MODIFIED:20250106T160618Z
UID:13951-1759881600-1759967999@concamp.com.br
SUMMARY:Previsão de Sorteio
DESCRIPTION:
URL:https://concamp.com.br/agenda/previsao-de-sorteio-33/
CATEGORIES:Eventos
END:VEVENT
BEGIN:VEVENT
DTSTART;VALUE=DATE:20251029
DTEND;VALUE=DATE:20251030
DTSTAMP:20260424T064546
CREATED:20250106T160758Z
LAST-MODIFIED:20250106T160758Z
UID:13974-1761696000-1761782399@concamp.com.br
SUMMARY:Previsão de Sorteio
DESCRIPTION:
URL:https://concamp.com.br/agenda/previsao-de-sorteio-44/
CATEGORIES:Eventos
END:VEVENT
BEGIN:VEVENT
DTSTART;VALUE=DATE:20251108
DTEND;VALUE=DATE:20251109
DTSTAMP:20260424T064546
CREATED:20250106T154146Z
LAST-MODIFIED:20250106T160834Z
UID:13953-1762560000-1762646399@concamp.com.br
SUMMARY:Previsão de Sorteio
DESCRIPTION:
URL:https://concamp.com.br/agenda/previsao-de-sorteio-34/
CATEGORIES:Eventos
END:VEVENT
BEGIN:VEVENT
DTSTART;VALUE=DATE:20251129
DTEND;VALUE=DATE:20251130
DTSTAMP:20260424T064546
CREATED:20250106T160918Z
LAST-MODIFIED:20250106T160918Z
UID:13976-1764374400-1764460799@concamp.com.br
SUMMARY:Previsão de Sorteio
DESCRIPTION:
URL:https://concamp.com.br/agenda/previsao-de-sorteio-45/
CATEGORIES:Eventos
END:VEVENT
BEGIN:VEVENT
DTSTART;VALUE=DATE:20251231
DTEND;VALUE=DATE:20260101
DTSTAMP:20260424T064546
CREATED:20250106T161010Z
LAST-MODIFIED:20250106T161020Z
UID:13978-1767139200-1767225599@concamp.com.br
SUMMARY:Previsão de Sorteio
DESCRIPTION:
URL:https://concamp.com.br/agenda/previsao-de-sorteio-46/
CATEGORIES:Eventos
END:VEVENT
BEGIN:VEVENT
DTSTART;VALUE=DATE:20260110
DTEND;VALUE=DATE:20260111
DTSTAMP:20260424T064546
CREATED:20260108T174549Z
LAST-MODIFIED:20260108T174549Z
UID:15397-1768003200-1768089599@concamp.com.br
SUMMARY:Previsão de Sorteio
DESCRIPTION:
URL:https://concamp.com.br/agenda/previsao-de-sorteio-48/
CATEGORIES:Eventos
END:VEVENT
BEGIN:VEVENT
DTSTART;VALUE=DATE:20260131
DTEND;VALUE=DATE:20260201
DTSTAMP:20260424T064546
CREATED:20260108T174637Z
LAST-MODIFIED:20260108T174637Z
UID:15399-1769817600-1769903999@concamp.com.br
SUMMARY:Previsão de Sorteio
DESCRIPTION:
URL:https://concamp.com.br/agenda/previsao-de-sorteio-49/
CATEGORIES:Eventos
END:VEVENT
BEGIN:VEVENT
DTSTART;VALUE=DATE:20260211
DTEND;VALUE=DATE:20260212
DTSTAMP:20260424T064546
CREATED:20260108T174923Z
LAST-MODIFIED:20260108T174923Z
UID:15402-1770768000-1770854399@concamp.com.br
SUMMARY:Previsão de Sorteio
DESCRIPTION:
URL:https://concamp.com.br/agenda/previsao-de-sorteio-50/
CATEGORIES:Eventos
END:VEVENT
BEGIN:VEVENT
DTSTART;VALUE=DATE:20260228
DTEND;VALUE=DATE:20260301
DTSTAMP:20260424T064546
CREATED:20260108T182047Z
LAST-MODIFIED:20260108T182047Z
UID:15449-1772236800-1772323199@concamp.com.br
SUMMARY:Previsão de Sorteio
DESCRIPTION:
URL:https://concamp.com.br/agenda/previsao-de-sorteio-63/
CATEGORIES:Eventos
END:VEVENT
BEGIN:VEVENT
DTSTART;VALUE=DATE:20260311
DTEND;VALUE=DATE:20260312
DTSTAMP:20260424T064546
CREATED:20260108T175113Z
LAST-MODIFIED:20260108T175113Z
UID:15407-1773187200-1773273599@concamp.com.br
SUMMARY:Previsão de Sorteio
DESCRIPTION:
URL:https://concamp.com.br/agenda/previsao-de-sorteio-52/
CATEGORIES:Eventos
END:VEVENT
BEGIN:VEVENT
DTSTART;VALUE=DATE:20260328
DTEND;VALUE=DATE:20260329
DTSTAMP:20260424T064546
CREATED:20260108T175325Z
LAST-MODIFIED:20260108T175325Z
UID:15409-1774656000-1774742399@concamp.com.br
SUMMARY:Previsão de Sorteio
DESCRIPTION:
URL:https://concamp.com.br/agenda/previsao-de-sorteio-53/
CATEGORIES:Eventos
END:VEVENT
BEGIN:VEVENT
DTSTART;VALUE=DATE:20260408
DTEND;VALUE=DATE:20260409
DTSTAMP:20260424T064546
CREATED:20260108T175541Z
LAST-MODIFIED:20260108T175541Z
UID:15411-1775606400-1775692799@concamp.com.br
SUMMARY:Previsão de Sorteio
DESCRIPTION:
URL:https://concamp.com.br/agenda/previsao-de-sorteio-54/
CATEGORIES:Eventos
END:VEVENT
BEGIN:VEVENT
DTSTART;VALUE=DATE:20260429
DTEND;VALUE=DATE:20260430
DTSTAMP:20260424T064546
CREATED:20260108T175943Z
LAST-MODIFIED:20260108T175943Z
UID:15413-1777420800-1777507199@concamp.com.br
SUMMARY:Previsão de Sorteio
DESCRIPTION:
URL:https://concamp.com.br/agenda/previsao-de-sorteio-55/
CATEGORIES:Eventos
END:VEVENT
BEGIN:VEVENT
DTSTART;VALUE=DATE:20260509
DTEND;VALUE=DATE:20260510
DTSTAMP:20260424T064546
CREATED:20260108T180034Z
LAST-MODIFIED:20260108T180034Z
UID:15415-1778284800-1778371199@concamp.com.br
SUMMARY:Previsão de Sorteio
DESCRIPTION:
URL:https://concamp.com.br/agenda/previsao-de-sorteio-56/
CATEGORIES:Eventos
END:VEVENT
BEGIN:VEVENT
DTSTART;VALUE=DATE:20260530
DTEND;VALUE=DATE:20260531
DTSTAMP:20260424T064546
CREATED:20260108T180059Z
LAST-MODIFIED:20260108T180059Z
UID:15416-1780099200-1780185599@concamp.com.br
SUMMARY:Previsão de Sorteio
DESCRIPTION:
URL:https://concamp.com.br/agenda/previsao-de-sorteio-57/
CATEGORIES:Eventos
END:VEVENT
BEGIN:VEVENT
DTSTART;VALUE=DATE:20260610
DTEND;VALUE=DATE:20260611
DTSTAMP:20260424T064546
CREATED:20260108T180149Z
LAST-MODIFIED:20260108T180149Z
UID:15420-1781049600-1781135999@concamp.com.br
SUMMARY:Previsão de Sorteio
DESCRIPTION:
URL:https://concamp.com.br/agenda/previsao-de-sorteio-58/
CATEGORIES:Eventos
END:VEVENT
BEGIN:VEVENT
DTSTART;VALUE=DATE:20260627
DTEND;VALUE=DATE:20260628
DTSTAMP:20260424T064546
CREATED:20260108T180210Z
LAST-MODIFIED:20260108T180210Z
UID:15421-1782518400-1782604799@concamp.com.br
SUMMARY:Previsão de Sorteio
DESCRIPTION:
URL:https://concamp.com.br/agenda/previsao-de-sorteio-59/
CATEGORIES:Eventos
END:VEVENT
BEGIN:VEVENT
DTSTART;VALUE=DATE:20260708
DTEND;VALUE=DATE:20260709
DTSTAMP:20260424T064546
CREATED:20260108T180302Z
LAST-MODIFIED:20260108T180302Z
UID:15424-1783468800-1783555199@concamp.com.br
SUMMARY:Previsão de Sorteio
DESCRIPTION:
URL:https://concamp.com.br/agenda/previsao-de-sorteio-60/
CATEGORIES:Eventos
END:VEVENT
BEGIN:VEVENT
DTSTART;VALUE=DATE:20260729
DTEND;VALUE=DATE:20260730
DTSTAMP:20260424T064546
CREATED:20260108T180333Z
LAST-MODIFIED:20260108T180333Z
UID:15425-1785283200-1785369599@concamp.com.br
SUMMARY:Previsão de Sorteio
DESCRIPTION:
URL:https://concamp.com.br/agenda/previsao-de-sorteio-61/
CATEGORIES:Eventos
END:VEVENT
BEGIN:VEVENT
DTSTART;VALUE=DATE:20260808
DTEND;VALUE=DATE:20260809
DTSTAMP:20260424T064546
CREATED:20260108T180434Z
LAST-MODIFIED:20260108T180434Z
UID:15428-1786147200-1786233599@concamp.com.br
SUMMARY:Previsão de Sorteio
DESCRIPTION:
URL:https://concamp.com.br/agenda/previsao-de-sorteio-62/
CATEGORIES:Eventos
END:VEVENT
BEGIN:VEVENT
DTSTART;VALUE=DATE:20260829
DTEND;VALUE=DATE:20260830
DTSTAMP:20260424T064546
CREATED:20260108T182313Z
LAST-MODIFIED:20260108T182313Z
UID:15451-1787961600-1788047999@concamp.com.br
SUMMARY:Previsão de Sorteio
DESCRIPTION:
URL:https://concamp.com.br/agenda/previsao-de-sorteio-72/
CATEGORIES:Eventos
END:VEVENT
BEGIN:VEVENT
DTSTART;VALUE=DATE:20260909
DTEND;VALUE=DATE:20260910
DTSTAMP:20260424T064546
CREATED:20260108T180559Z
LAST-MODIFIED:20260108T180559Z
UID:15432-1788912000-1788998399@concamp.com.br
SUMMARY:Previsão de Sorteio
DESCRIPTION:
URL:https://concamp.com.br/agenda/previsao-de-sorteio-64/
CATEGORIES:Eventos
END:VEVENT
BEGIN:VEVENT
DTSTART;VALUE=DATE:20260930
DTEND;VALUE=DATE:20261001
DTSTAMP:20260424T064546
CREATED:20260108T180708Z
LAST-MODIFIED:20260108T180708Z
UID:15433-1790726400-1790812799@concamp.com.br
SUMMARY:Previsão de Sorteio
DESCRIPTION:
URL:https://concamp.com.br/agenda/previsao-de-sorteio-65/
END:VEVENT
BEGIN:VEVENT
DTSTART;VALUE=DATE:20261010
DTEND;VALUE=DATE:20261011
DTSTAMP:20260424T064546
CREATED:20260108T180815Z
LAST-MODIFIED:20260108T180815Z
UID:15436-1791590400-1791676799@concamp.com.br
SUMMARY:Previsão de Sorteio
DESCRIPTION:
URL:https://concamp.com.br/agenda/previsao-de-sorteio-66/
CATEGORIES:Eventos
END:VEVENT
BEGIN:VEVENT
DTSTART;VALUE=DATE:20261031
DTEND;VALUE=DATE:20261101
DTSTAMP:20260424T064546
CREATED:20260108T181028Z
LAST-MODIFIED:20260108T181028Z
UID:15437-1793404800-1793491199@concamp.com.br
SUMMARY:Previsão de Sorteio
DESCRIPTION:
URL:https://concamp.com.br/agenda/previsao-de-sorteio-67/
CATEGORIES:Eventos
END:VEVENT
BEGIN:VEVENT
DTSTART;VALUE=DATE:20261111
DTEND;VALUE=DATE:20261112
DTSTAMP:20260424T064546
CREATED:20260108T181321Z
LAST-MODIFIED:20260108T181321Z
UID:15440-1794355200-1794441599@concamp.com.br
SUMMARY:Previsão de Sorteio
DESCRIPTION:
URL:https://concamp.com.br/agenda/previsao-de-sorteio-68/
CATEGORIES:Eventos
END:VEVENT
END:VCALENDAR