BEGIN:VCALENDAR
VERSION:2.0
PRODID:-//ConCamp - ECPv6.15.12.2//NONSGML v1.0//EN
CALSCALE:GREGORIAN
METHOD:PUBLISH
X-ORIGINAL-URL:https://concamp.com.br
X-WR-CALDESC:Eventos para ConCamp
REFRESH-INTERVAL;VALUE=DURATION:PT1H
X-Robots-Tag:noindex
X-PUBLISHED-TTL:PT1H
BEGIN:VTIMEZONE
TZID:America/Sao_Paulo
BEGIN:STANDARD
TZOFFSETFROM:-0300
TZOFFSETTO:-0300
TZNAME:-03
DTSTART:20250101T000000
END:STANDARD
END:VTIMEZONE
BEGIN:VEVENT
DTSTART;VALUE=DATE:20260610
DTEND;VALUE=DATE:20260611
DTSTAMP:20260423T133930
CREATED:20260108T180149Z
LAST-MODIFIED:20260108T180149Z
UID:15420-1781049600-1781135999@concamp.com.br
SUMMARY:Previsão de Sorteio
DESCRIPTION:
URL:https://concamp.com.br/agenda/previsao-de-sorteio-58/
CATEGORIES:Eventos
END:VEVENT
BEGIN:VEVENT
DTSTART;VALUE=DATE:20260627
DTEND;VALUE=DATE:20260628
DTSTAMP:20260423T133930
CREATED:20260108T180210Z
LAST-MODIFIED:20260108T180210Z
UID:15421-1782518400-1782604799@concamp.com.br
SUMMARY:Previsão de Sorteio
DESCRIPTION:
URL:https://concamp.com.br/agenda/previsao-de-sorteio-59/
CATEGORIES:Eventos
END:VEVENT
END:VCALENDAR